BEGIN:VCALENDAR
VERSION:2.0
PRODID:-//Upcountry History Museum - ECPv6.15.20//NONSGML v1.0//EN
CALSCALE:GREGORIAN
METHOD:PUBLISH
X-ORIGINAL-URL:https://upcountryhistory.org
X-WR-CALDESC:Events for Upcountry History Museum
REFRESH-INTERVAL;VALUE=DURATION:PT1H
X-Robots-Tag:noindex
X-PUBLISHED-TTL:PT1H
BEGIN:VTIMEZONE
TZID:UTC
BEGIN:STANDARD
TZOFFSETFROM:+0000
TZOFFSETTO:+0000
TZNAME:UTC
DTSTART:20250101T000000
END:STANDARD
END:VTIMEZONE
BEGIN:VEVENT
DTSTART;TZID=UTC:20260131T100000
DTEND;TZID=UTC:20260614T170000
DTSTAMP:20260424T124011
CREATED:20250701T171435Z
LAST-MODIFIED:20260325T190642Z
UID:14099-1769853600-1781456400@upcountryhistory.org
SUMMARY:The Art of Warner Bros. Cartoons
DESCRIPTION:The Art of Warner Bros. Cartoons\nJanuary 31\, 2026 – June 14\, 2026 \n  \n“Animation isn’t an illusion of life. It is life.”\n– Chuck Jones\, Warner Bros. creator \n  \nFor over 90 years\, Warner Bros. animation has brought joy to all ages. Looney Tunes and Merrie Melodies produced some to the most iconic animated characters – Bugs Bunny\, Porky Pig\, Daffy Duck\, Tweety Bird\, Wile E. Coyote\, Road Runner\, Elmer Fudd\, and more. \nThe classic Warner Bros. short animations were different from any other in that they were made with an adult audience in mind. The funny\, exuberant stories with a breath-taking pace were peppered with sharp satire and references to topical matters and real-life phenomena as well as endless verbal fireworks. Six to seven minutes long\, the cartoons were originally screened in film theatres before the feature film. \nThe Art Of Warner Bros. Cartoons\, an international traveling exhibition\, includes 160 objects and film clips that invite visitors of all ages to explore the history of the legendary Warner Bros. animation studio. The exhibition includes original production artwork\, including drawings\, paintings\, and transparent celluloids used to create some of Warner Studios’ classic cartoon shorts from their 1930 debut through the early 1960s. \nVisitors will explore the elaborate process that went into the making of the classic Warner Bros. cartoons\, considered to be among the finest\, funniest\, and most inventive animated shorts ever made. Vivacious\, colorful and highly animated\, the exhibition traces the development of all of Warner’s cartoon stars and gives a step-by-step breakdown of how animated films are made. \n  \n            \n  \nSupport provided by \n    \n 
URL:https://upcountryhistory.org/event/the-art-of-warner-bros-cartoons/
CATEGORIES:Exhibitions,Highlight
ATTACH;FMTTYPE=image/png:https://upcountryhistory.org/wp-content/uploads/2021/08/WB_web-image-01.png
END:VEVENT
BEGIN:VEVENT
DTSTART;TZID=UTC:20260516T100000
DTEND;TZID=UTC:20260927T170000
DTSTAMP:20260424T124011
CREATED:20250701T171503Z
LAST-MODIFIED:20250701T171518Z
UID:14091-1778925600-1790528400@upcountryhistory.org
SUMMARY:Xavier Riddle and the Secret Museum: The Exhibit
DESCRIPTION:Xavier Riddle and the Secret Museum: The Exhibit\nMay 16\, 2026 – September 27\, 2026 \n  \nYoung adventurers and their caregivers will travel back in time to unravel the secrets of world-famous heroes and heroines in Xavier Riddle and the Secret Museum: The Exhibit. \nXavier Riddle and the Secret Museum is an animated PBS KIDS TV children’s series based on New York Times best-selling author Brad Meltzer and illustrator Chris Eliopoulos children’s book series\, Ordinary People Change the World. \nThe 2\,000 square foot interactive exhibit brings to life the acclaimed PBS KIDS TV series\, which follows kid adventurers Xavier Riddle\, his sister Yadina\, friend Brad; and Berby the flying robot\, as they tackle everyday problems by doing something extraordinary: traveling back in time to learn from real-life inspirational figures when they were children. \nThe imagination-stirring STEAM (science\, technology\, engineering\, art\, math) and early literacy experience is filled with holograms\, heroes\, heroines and engaging activities specially designed for children ages 3-10. Adventurers enter the Secret Museum through a hidden portal – just like in the tv series – to unlock different periods in history and meet inspirational heroes and heroines\, learning about their extraordinary contributions and actions that helped change the world for the better. \nHands-on exploration includes uncovering dinosaur skeletons with paleontologist Mary Anning\, discovering a secret garden with botanist George Washington Carver\, and examining x-rays with chemist Marie Curie. Visitors also travel through a real-life version of Hall of Heroes! A room filled with additional hands-on learning experiences regarding many of the world-changing historical figures featured in the television and book series. \nXavier Riddle and the Secret Museum: The Exhibit highlights the importance of empowering children to dream big and recognize their ability to make a real and meaningful difference in the world. Children not only unravel the secrets of heroes and heroines from the past but also learn how they can be role models of the present. In addition to supporting STEAM learning and early literacy\, the exhibit illustrates that when children are encouraged to believe in themselves\, they can accomplish amazing things. \n  \n   \n  \n 
URL:https://upcountryhistory.org/event/xavier-riddle/
ATTACH;FMTTYPE=image/png:https://upcountryhistory.org/wp-content/uploads/2025/06/Xavier-Riddle_Final-Logo_RGB-e1776347690702.png
END:VEVENT
END:VCALENDAR